BEGIN:VCALENDAR
PRODID:-//github.com/rianjs/ical.net//NONSGML ical.net 4.0//EN
VERSION:2.0
BEGIN:VEVENT
DESCRIPTION:Details:\nhttps://bbyo.org/bbyo-near-you/regions/nassau-suffol
 k-region/aza-basketball-2-15\n\nSummary:\nBoys Basketball
DTEND:20060215T220000
DTSTAMP:20260420T102318Z
DTSTART;VALUE=DATE:20060215
LOCATION:HANC School Gym
SEQUENCE:0
SUMMARY:AZA Basketball 2/15
UID:4877da49-7b28-4da8-990f-ec7441aef76a
END:VEVENT
END:VCALENDAR
