BEGIN:VCALENDAR
PRODID:-//github.com/rianjs/ical.net//NONSGML ical.net 4.0//EN
VERSION:2.0
BEGIN:VEVENT
DESCRIPTION:Details:\nhttps://bbyo.org/bbyo-near-you/regions/delta-region/
 nash-bbyo-fall-fest\n\nSummary:\nJOIN NASH BBYO AT THE HOTTEST EVENT THIS
  FALL!\n\nSunday\, October 6th the Tennessee Titans take on the Buffalo B
 ills and BBYO is going. We have 45 tickets\, on a first come first serve 
 basis\, for Alephs and BBG's to attend. There are ways that you can guaru
 ntee yourself a ticket.
DTEND:20191006T160000
DTSTAMP:20260421T082034Z
DTSTART:20191006T113000
LOCATION:Nashville Tennessee
SEQUENCE:0
SUMMARY:Nash BBYO Fall Fest
UID:de17f5ab-e3c1-4d87-ae6e-331306f4f980
END:VEVENT
END:VCALENDAR
