BEGIN:VCALENDAR
PRODID:-//github.com/rianjs/ical.net//NONSGML ical.net 4.0//EN
VERSION:2.0
BEGIN:VEVENT
DESCRIPTION:Details:\nhttps://bbyo.org/bbyo-near-you/regions/eastern-regio
 n/eastern-region-spring-convention-bus
DTEND:20220403T120000
DTSTAMP:20260422T054555Z
DTSTART:20220401T120000
LOCATION:
SEQUENCE:0
SUMMARY:Eastern Region Spring Convention Bus
UID:cd837a26-2eb7-45af-88bb-599bb28a468e
END:VEVENT
END:VCALENDAR
