BEGIN:VCALENDAR
PRODID:-//github.com/rianjs/ical.net//NONSGML ical.net 4.0//EN
VERSION:2.0
BEGIN:VEVENT
DESCRIPTION:Details:\nhttps://bbyo.org/bbyo-near-you/regions/lonestar-regi
 on/san-antonio-texoma-kallah-2019\n\nSummary:\nRegistration for Texoma Co
 nvention 2019 open's on Sunday\, August 18th at 7:00 PM.
DTEND:20191027T150000
DTSTAMP:20260425T235208Z
DTSTART:20191025T163000
LOCATION:Bruceville Texas
SEQUENCE:0
SUMMARY:SAN ANTONIO Texoma Kallah 2019
UID:1d1075a9-8b0f-404d-a350-d9d71f8cb625
END:VEVENT
END:VCALENDAR
