BEGIN:VCALENDAR
PRODID:-//github.com/rianjs/ical.net//NONSGML ical.net 4.0//EN
VERSION:2.0
BEGIN:VEVENT
DESCRIPTION:Details:\nhttps://bbyo.org/bbyo-near-you/regions/south-jersey-
 region/sjr-winter-kickoff-at-citizens-bank-park!
DTEND:20180106T000100
DTSTAMP:20260420T162135Z
DTSTART;VALUE=DATE:20180106
LOCATION:
SEQUENCE:0
SUMMARY:SJR Winter Kickoff at Citizens Bank Park!
UID:1aaeb42e-9b4b-47f4-b9a5-deb34940912c
END:VEVENT
END:VCALENDAR
