BEGIN:VCALENDAR
PRODID:-//github.com/rianjs/ical.net//NONSGML ical.net 4.0//EN
VERSION:2.0
BEGIN:VEVENT
DESCRIPTION:Details:\nhttps://bbyo.org/bbyo-near-you/regions/northern-regi
 on-east-dc-council/azaa-flag-football-(4)
DTEND:20211031T130000
DTSTAMP:20260422T054745Z
DTSTART:20211031T110000
LOCATION:Falls Road Local Park
SEQUENCE:0
SUMMARY:AZAA Flag Football
UID:56fd83c1-f640-4976-8582-81c6da56cc9a
END:VEVENT
END:VCALENDAR
