BEGIN:VCALENDAR
PRODID:-//github.com/rianjs/ical.net//NONSGML ical.net 4.0//EN
VERSION:2.0
BEGIN:VEVENT
DESCRIPTION:Details:\nhttps://bbyo.org/bbyo-near-you/regions/north-texas-o
 klahoma-region/calendar-clearance-(2)
DTEND:20240821T203000
DTSTAMP:20260424T215449Z
DTSTART:20240821T183000
LOCATION:Dallas Texas
SEQUENCE:0
SUMMARY:Calendar Clearance
UID:f336b214-0b19-4af0-ae21-817d00517b6f
END:VEVENT
END:VCALENDAR
