BEGIN:VCALENDAR
PRODID:-//github.com/rianjs/ical.net//NONSGML ical.net 4.0//EN
VERSION:2.0
BEGIN:VEVENT
DESCRIPTION:Details:\nhttps://bbyo.org/bbyo-near-you/regions/northern-regi
 on-east-dc-council/montgomery-county-spring-intake-2020\n\nSummary:\nPlea
 se join us on January 13th\, prospective members will be able to interact
  with all of the Montgomery County BBYO chapters. We will start
DTEND:20200113T200000
DTSTAMP:20260423T114211Z
DTSTART:20200113T183000
LOCATION:Rockville Maryland
SEQUENCE:0
SUMMARY:Montgomery County Spring intake 2020
UID:98e9f830-6df9-4da2-bb35-aab9103f42ba
END:VEVENT
END:VCALENDAR
