BEGIN:VCALENDAR
PRODID:-//github.com/rianjs/ical.net//NONSGML ical.net 4.0//EN
VERSION:2.0
BEGIN:VEVENT
DESCRIPTION:Details:\nhttps://bbyo.org/bbyo-near-you/regions/new-england-r
 egion/greater-boston-and-boston-lgbtq-all-gender-event\n\nSummary:\nJoin 
 us for our first LGBTQ All Gender Event! We are hoping this will start us
  on the path of starting a All Gender BBYO chapter for the Boston and Gre
 ater Boston community. \n\nWe plan to m
DTEND:20170225T210000
DTSTAMP:20260423T002414Z
DTSTART:20170225T180000
LOCATION:Community Church of Boston
SEQUENCE:0
SUMMARY:Greater Boston and Boston LGBTQ All Gender Event
UID:47923bba-c5ef-4bef-96cf-d713cf94da83
END:VEVENT
END:VCALENDAR
