BEGIN:VCALENDAR
PRODID:-//github.com/rianjs/ical.net//NONSGML ical.net 4.0//EN
VERSION:2.0
BEGIN:VEVENT
DESCRIPTION:Details:\nhttps://bbyo.org/bbyo-near-you/regions/pacific-weste
 rn-region/spring-convention-(1)
DTEND:20210530T140000
DTSTAMP:20260421T163617Z
DTSTART:20210528T170000
LOCATION:Hybrid Virtual + In Person
SEQUENCE:0
SUMMARY:Spring Convention
UID:4b39ce78-2797-44bd-97cf-485db3ed8a5f
END:VEVENT
END:VCALENDAR
