BEGIN:VCALENDAR
PRODID:-//github.com/rianjs/ical.net//NONSGML ical.net 4.0//EN
VERSION:2.0
BEGIN:VEVENT
DESCRIPTION:Details:\nhttps://bbyo.org/bbyo-near-you/regions/pacific-weste
 rn-region/pwr-regional-xx-s
DTEND;VALUE=DATE:20170820
DTSTAMP:20260423T081831Z
DTSTART;VALUE=DATE:20170819
LOCATION:
SEQUENCE:0
SUMMARY:PWR Regional XX's
UID:0769e098-fd37-4857-bf98-c98926a6b81e
END:VEVENT
END:VCALENDAR
