BEGIN:VCALENDAR
PRODID:-//github.com/rianjs/ical.net//NONSGML ical.net 4.0//EN
VERSION:2.0
BEGIN:VEVENT
DESCRIPTION:Details:\nhttps://bbyo.org/bbyo-near-you/regions/evergreen-reg
 ion/winter-term-2016-kickoff-meet-the-chapters\n\nSummary:\nMeet our SJCC
  chapters! Each chapter will host a 20-30 minute activity to introduce ne
 w teens to what the chapter experience is all about! Meet Achayot BBG\, H
 alom BBG\, Rainier AZA\, and Weste
DTEND:20160201T210000
DTSTAMP:20260420T132326Z
DTSTART:20160201T190000
LOCATION:SJCC
SEQUENCE:0
SUMMARY:Winter Term 2016 Kickoff: MEET THE CHAPTERS
UID:c94efdc9-9ec6-4167-9e74-8e33cf3adbf5
END:VEVENT
END:VCALENDAR
