BEGIN:VCALENDAR
PRODID:-//github.com/rianjs/ical.net//NONSGML ical.net 4.0//EN
VERSION:2.0
BEGIN:VEVENT
DESCRIPTION:Details:\nhttps://bbyo.org/bbyo-near-you/regions/ohio-northern
 -region/onr-global-shabbat\n\nSummary:\nJoin ONR on Friday December 14 fr
 om 6:30-9:30 pm at Camp Wise as we celebrate Global Shabbat. This year we
  will be shining the light on teen activism and we will be learning about
  how we can
DTEND:20181214T213000
DTSTAMP:20260424T233037Z
DTSTART:20181214T183000
LOCATION:Chardon Ohio
SEQUENCE:0
SUMMARY:ONR Global Shabbat
UID:6ec92205-9a43-438b-bb09-27de8b084a06
END:VEVENT
END:VCALENDAR
