BEGIN:VCALENDAR
PRODID:-//github.com/rianjs/ical.net//NONSGML ical.net 4.0//EN
VERSION:2.0
BEGIN:VEVENT
DESCRIPTION:Details:\nhttps://bbyo.org/bbyo-near-you/regions/pacific-weste
 rn-region/pwr-embroidered-sweatshirts-(1)\n\nSummary:\nGet your official 
 PWR sweatshirt today! Help keep PWR and the BBYO spirit alive by represen
 ting the best region in the order!
DTEND:20210107T150000
DTSTAMP:20260425T235251Z
DTSTART;VALUE=DATE:20210107
LOCATION:
SEQUENCE:0
SUMMARY:PWR Embroidered Sweatshirts
UID:574fffa6-971d-4911-8c36-d0278914bbd9
END:VEVENT
END:VCALENDAR
