BEGIN:VCALENDAR
PRODID:-//github.com/rianjs/ical.net//NONSGML ical.net 4.0//EN
VERSION:2.0
BEGIN:VEVENT
DESCRIPTION:Details:\nhttps://bbyo.org/bbyo-near-you/regions/liberty-regio
 n/together-as-one-spring-fundraiser-calling-party
DTEND:20220424T170000
DTSTAMP:20260425T103603Z
DTSTART:20220424T150000
LOCATION:Ambler Pennsylvania
SEQUENCE:0
SUMMARY:Together as One Spring Fundraiser Calling Party
UID:15708d6c-cb07-47e5-b811-154ab025e207
END:VEVENT
END:VCALENDAR
