BEGIN:VCALENDAR
PRODID:-//github.com/rianjs/ical.net//NONSGML ical.net 4.0//EN
VERSION:2.0
BEGIN:VEVENT
DESCRIPTION:Details:\nhttps://bbyo.org/bbyo-near-you/regions/northern-regi
 on-east-dc-council/dc-council-meeting
DTEND:20211213T200000
DTSTAMP:20260420T103348Z
DTSTART:20211213T190000
LOCATION:Bender JCC
SEQUENCE:0
SUMMARY:DC Council Meeting
UID:87a1d180-1714-4217-bc07-496da8cf0d3c
END:VEVENT
END:VCALENDAR
