BEGIN:VCALENDAR
PRODID:-//github.com/rianjs/ical.net//NONSGML ical.net 4.0//EN
VERSION:2.0
BEGIN:VEVENT
DESCRIPTION:Details:\nhttps://bbyo.org/bbyo-near-you/regions/liberty-regio
 n/giving-bbyo-day-calling-party-(ambler-location)
DTEND:20221129T203000
DTSTAMP:20260422T034737Z
DTSTART:20221129T190000
LOCATION:Dresher Pennsylvania
SEQUENCE:0
SUMMARY:Giving BBYO Day Calling Party (Ambler Location)
UID:0fb7928d-4dfa-4d36-81ca-e018d5776cad
END:VEVENT
END:VCALENDAR
