BEGIN:VCALENDAR
PRODID:-//github.com/rianjs/ical.net//NONSGML ical.net 4.0//EN
VERSION:2.0
BEGIN:VEVENT
DESCRIPTION:Details:\nhttps://bbyo.org/bbyo-near-you/regions/rocky-mountai
 n-region/chapter-leadership-training-(1)
DTEND:20230117T190000
DTSTAMP:20260423T132036Z
DTSTART:20230117T170000
LOCATION:Temple Emanuel Denver
SEQUENCE:0
SUMMARY:Chapter Leadership Training
UID:e61f8ab9-3ffa-4d6e-8dc6-fba28a412628
END:VEVENT
END:VCALENDAR
