BEGIN:VCALENDAR
PRODID:-//github.com/rianjs/ical.net//NONSGML ical.net 4.0//EN
VERSION:2.0
BEGIN:VEVENT
DESCRIPTION:Details:\nhttps://bbyo.org/bbyo-near-you/regions/michigan-regi
 on/regional-installations-and-awards\n\nSummary:\nBBYO's Installations an
 d Regional Award will take place on Sunday\, May 26th at 6:00 pm at Herit
 age Park.\n\nJoin us for a fun night of as we install our 95th and 75th r
 egional boards with bonfire and celebrations!!!
DTEND:20190526T210000
DTSTAMP:20260423T002002Z
DTSTART:20190526T180000
LOCATION:Farmington Michigan
SEQUENCE:0
SUMMARY:Regional Installations and Awards
UID:b1453034-81ad-4134-aecd-c6c63adb0028
END:VEVENT
END:VCALENDAR
