BEGIN:VCALENDAR
PRODID:-//github.com/rianjs/ical.net//NONSGML ical.net 4.0//EN
VERSION:2.0
BEGIN:VEVENT
DESCRIPTION:Details:\nhttps://bbyo.org/bbyo-near-you/regions/northern-regi
 on-east-dc-council/dc-council-jserve
DTEND:20180416T000100
DTSTAMP:20260423T214756Z
DTSTART;VALUE=DATE:20180416
LOCATION:
SEQUENCE:0
SUMMARY:DC Council JServe
UID:2153733f-839e-4d10-8e5f-ebc4726ced3c
END:VEVENT
END:VCALENDAR
