BEGIN:VCALENDAR
PRODID:-//github.com/rianjs/ical.net//NONSGML ical.net 4.0//EN
VERSION:2.0
BEGIN:VEVENT
DESCRIPTION:Details:\nhttps://bbyo.org/bbyo-near-you/regions/gold-coast-re
 gion/junior-senior-college-tour
DTEND:20051024T003000
DTSTAMP:20260420T132351Z
DTSTART:20051021T003000
LOCATION:
SEQUENCE:0
SUMMARY:Junior/Senior College Tour
UID:01efbca6-f0e2-4306-ba11-e83a09aa286a
END:VEVENT
END:VCALENDAR
