BEGIN:VCALENDAR
PRODID:-//github.com/rianjs/ical.net//NONSGML ical.net 4.0//EN
VERSION:2.0
BEGIN:VEVENT
DESCRIPTION:Details:\nhttps://bbyo.org/bbyo-near-you/regions/new-england-r
 egion/bbyo-summer-parent-teen-info-session\n\nSummary:\nParents and teens
  interested in hearing about all of BBYO's Summer Program options should 
 join us for our Teen and Parent Info Night. We are hosting this with a fe
 w regions from around the o
DTEND:20201019T210000
DTSTAMP:20260426T013200Z
DTSTART:20201019T200000
LOCATION:Zoom/Online Event
SEQUENCE:0
SUMMARY:BBYO Summer Parent & Teen Info Session
UID:66170948-9afa-4c11-a4fc-2b2f25156259
END:VEVENT
END:VCALENDAR
