BEGIN:VCALENDAR
PRODID:-//github.com/rianjs/ical.net//NONSGML ical.net 4.0//EN
VERSION:2.0
BEGIN:VEVENT
DESCRIPTION:Details:\nhttps://bbyo.org/bbyo-near-you/regions/new-england-r
 egion/global-shabbat-@-warrior-ice-arena\n\nSummary:\nLet there be light.
  Celebrating the joy of Shabbat with Gamechanges around the world.\n\nJoi
 n BBYO NER for a Global Shabbat Night at the Warrior Ice Arena. The night
  begins with Havdallah and
DTEND:20181208T223000
DTSTAMP:20260423T200719Z
DTSTART:20181208T193000
LOCATION:Boston Massachusetts
SEQUENCE:0
SUMMARY:Global Shabbat @ Warrior Ice Arena
UID:4fbe7f81-1f47-42ca-bfc9-21d17daa2163
END:VEVENT
END:VCALENDAR
