BEGIN:VCALENDAR
PRODID:-//github.com/rianjs/ical.net//NONSGML ical.net 4.0//EN
VERSION:2.0
BEGIN:VEVENT
DESCRIPTION:Details:\nhttps://bbyo.org/bbyo-near-you/regions/northern-regi
 on-east-dc-council/ic-2024-launch-party-on-zoom
DTEND:20230928T200000
DTSTAMP:20260423T042648Z
DTSTART:20230928T190000
LOCATION:Zoom
SEQUENCE:0
SUMMARY:IC 2024 Launch Party on ZOOM
UID:d00c0598-1534-4671-949b-7a8b19361568
END:VEVENT
END:VCALENDAR
