BEGIN:VCALENDAR
PRODID:-//github.com/rianjs/ical.net//NONSGML ical.net 4.0//EN
VERSION:2.0
BEGIN:VEVENT
DESCRIPTION:Details:\nhttps://bbyo.org/bbyo-near-you/regions/gold-coast-re
 gion/gcr-fall-a-palooza-(pc3000)\n\nSummary:\nLOCATION:         Seabase C
 amp\n                                73800 Overseas Highway\n            
                     Islamorada\, FL \n                                \nD
 ATE:
DTEND:20161113T140000
DTSTAMP:20260423T133556Z
DTSTART:20161110T173000
LOCATION:Seabase 1.0
SEQUENCE:0
SUMMARY:GCR Fall-A-Palooza (PC3000)
UID:acf074b0-482d-4885-9f1d-d936375337a9
END:VEVENT
END:VCALENDAR
