BEGIN:VCALENDAR
PRODID:-//github.com/rianjs/ical.net//NONSGML ical.net 4.0//EN
VERSION:2.0
BEGIN:VEVENT
DESCRIPTION:Details:\nhttps://bbyo.org/bbyo-near-you/regions/connecticut-v
 alley-region/kallah-judaism-institute\n\nSummary:\nJoin CVR BBYO for thei
 r annual institute of Informal Jewish Education.  Learn about your Judais
 m in a safe\, comfortable environment.  Ask questions\, explore your reli
 gion\, and nourish your J
DTEND:20060205T130000
DTSTAMP:20260420T180408Z
DTSTART:20060203T160000
LOCATION:Jewish Community Center of Eastern Fairfield County
SEQUENCE:0
SUMMARY:Kallah Judaism Institute
UID:9056163c-cac7-412f-a1ab-0b9b9bf38fc9
END:VEVENT
END:VCALENDAR
