BEGIN:VCALENDAR
PRODID:-//github.com/rianjs/ical.net//NONSGML ical.net 4.0//EN
VERSION:2.0
BEGIN:VEVENT
DESCRIPTION:Details:\nhttps://bbyo.org/bbyo-near-you/regions/mid-america-r
 egion-north-star-council/north-star-s-weekly-program-(5)
DTEND:20240229T200000
DTSTAMP:20260420T100512Z
DTSTART:20240229T190000
LOCATION:Minneapolis Minnesota
SEQUENCE:0
SUMMARY:North Star's Weekly Program
UID:78f655f5-e0ca-4e2c-bfda-53a141c4ed59
END:VEVENT
END:VCALENDAR
