BEGIN:VCALENDAR
PRODID:-//github.com/rianjs/ical.net//NONSGML ical.net 4.0//EN
VERSION:2.0
BEGIN:VEVENT
DESCRIPTION:Details:\nhttps://bbyo.org/bbyo-near-you/regions/central-regio
 n-west/summer-term-shomrim-retreat
DTEND:20240915T153000
DTSTAMP:20260420T132611Z
DTSTART:20240915T133000
LOCATION:OFJCC Room M121
SEQUENCE:0
SUMMARY:Summer Term Shomrim retreat
UID:f35d166f-0b48-4a7d-b8ea-1b26be56d3bc
END:VEVENT
END:VCALENDAR
