BEGIN:VCALENDAR
PRODID:-//github.com/rianjs/ical.net//NONSGML ical.net 4.0//EN
VERSION:2.0
BEGIN:VEVENT
DESCRIPTION:Details:\nhttps://bbyo.org/bbyo-near-you/regions/keystone-moun
 tain-region/kmr-new-member-weekend-2016-(pc3010)\n\nSummary:\nEscape the 
 cold January weather and come enjoy a weekend in "paradise". KMR New Memb
 er Weekend 2016 gives the perfect opportunity to create new memories and 
 make new friends while welcoming
DTEND:20160131T110000
DTSTAMP:20260424T083703Z
DTSTART:20160129T170000
LOCATION:Squirrel Hill Jewish Community Center
SEQUENCE:0
SUMMARY:KMR- New Member Weekend 2016 (PC3010)
UID:53fa3832-22b1-4887-8723-e7def2e672af
END:VEVENT
END:VCALENDAR
