BEGIN:VCALENDAR
PRODID:-//github.com/rianjs/ical.net//NONSGML ical.net 4.0//EN
VERSION:2.0
BEGIN:VEVENT
DESCRIPTION:Details:\nhttps://bbyo.org/bbyo-near-you/regions/new-england-r
 egion/getting-organized-with-dana-roth\n\nSummary:\nJoin Dana Roth\, Educ
 ation Consultant\, who will be bringing up topics around organizing your 
 assignments and extracurriculars to stay focused and get things done!
DTEND:20210110T120000
DTSTAMP:20260420T180505Z
DTSTART:20210110T110000
LOCATION:Zoom
SEQUENCE:0
SUMMARY:Getting Organized with Dana Roth
UID:8656aca2-6113-443a-b17b-640b328a5dc4
END:VEVENT
END:VCALENDAR
