BEGIN:VCALENDAR
PRODID:-//github.com/rianjs/ical.net//NONSGML ical.net 4.0//EN
VERSION:2.0
BEGIN:VEVENT
DESCRIPTION:Details:\nhttps://bbyo.org/bbyo-near-you/regions/northern-regi
 on-east-baltimore-council/baltimore-council-global-shabbat-(5000)\n\nSumm
 ary:\nThis year\, AZA and BBG will celebrate Global Shabbat under one uni
 ted theme\, “Be a gamechanger.” On December 3rd\, BBYO members from the U
 nited States to Bulgaria to Argentina and everywhere
DTEND:20161203T190000
DTSTAMP:20260421T141205Z
DTSTART:20161203T170000
LOCATION:Rosenbloom Owings Mills JCC
SEQUENCE:0
SUMMARY:Baltimore Council- Global Shabbat (5000)
UID:38887e88-e804-47d2-84f1-51a2f209c41c
END:VEVENT
END:VCALENDAR
