BEGIN:VCALENDAR
PRODID:-//github.com/rianjs/ical.net//NONSGML ical.net 4.0//EN
VERSION:2.0
BEGIN:VEVENT
DESCRIPTION:Details:\nhttps://bbyo.org/bbyo-near-you/regions/north-florida
 -region/orlando-execs\n\nSummary:\nJoin us for the first ever Orlando Exe
 cs! This is an important event for leadership training and board bonding!
  We will review what it means to be on BBYO board in Orlando. You will re
 ceive resources and tips on how to get the most out of this term.
DTEND:20220130T170000
DTSTAMP:20260425T150025Z
DTSTART:20220130T150000
LOCATION:Zoom
SEQUENCE:0
SUMMARY:Orlando Execs
UID:9a8b57f2-1580-472d-a779-fd5bf7e291ba
END:VEVENT
END:VCALENDAR
