BEGIN:VCALENDAR
PRODID:-//github.com/rianjs/ical.net//NONSGML ical.net 4.0//EN
VERSION:2.0
BEGIN:VEVENT
DESCRIPTION:Details:\nhttps://bbyo.org/bbyo-near-you/regions/north-texas-o
 klahoma-region/b-yachad-convention-steering-meeting-(1)
DTEND:20220925T150000
DTSTAMP:20260420T100520Z
DTSTART:20220925T130000
LOCATION:Dallas Texas
SEQUENCE:0
SUMMARY:B'yachad Convention Steering Meeting
UID:1ce69125-fa44-4e16-a236-8651c5482836
END:VEVENT
END:VCALENDAR
