BEGIN:VCALENDAR
PRODID:-//github.com/rianjs/ical.net//NONSGML ical.net 4.0//EN
VERSION:2.0
BEGIN:VEVENT
DESCRIPTION:Details:\nhttps://bbyo.org/bbyo-near-you/regions/manhattan-reg
 ion/bbyo-manhattan-s-fall-regional-leadership-training\n\nSummary:\nFall 
 Regional Leadership Training Institute (RLTI)\nSunday\, September 23rd\, 
 9:00 am - 4:30 pm\nWeWork Bryant Park\n54 West 40th Street\nNew York\, NY
  10018\n\nCalling all BBYO teen leaders! Spend the afternoon developing l
 eadership skills\, learning about how to run a strong chapter\, and worki
 ng with your chapter board to plan a successful future for BBYO Manhattan
  Region. At this time\, RLTI is open exclusively to BBYO Manhattan Region
 's chapter board members. If you are a BBYO member\, but not a chapter bo
 ard member\, who is interested in attending\, please email JZeftel@BBYO.o
 rg. This event costs $18 to attend. Lunch will be provided. \n\nQuestions
 ? Contact Jon Zeftel @ JZeftel@bbyo.org or (646) 505-4413\n
DTEND:20180923T163000
DTSTAMP:20260426T030232Z
DTSTART:20180923T090000
LOCATION:New York New York
SEQUENCE:0
SUMMARY:BBYO Manhattan's Fall Regional Leadership Training Institute (RLTI)
UID:c569287b-1769-482e-a316-f9322251044a
END:VEVENT
END:VCALENDAR
