BEGIN:VCALENDAR
PRODID:-//github.com/rianjs/ical.net//NONSGML ical.net 4.0//EN
VERSION:2.0
BEGIN:VEVENT
DESCRIPTION:Details:\nhttps://bbyo.org/bbyo-near-you/regions/michigan-regi
 on/seek-our-own-zikaron-ba-salon-with-eastern-region
DTEND:20220423T213000
DTSTAMP:20260422T202316Z
DTSTART:20220423T200000
LOCATION:Zoom
SEQUENCE:0
SUMMARY:Seek Our Own Zikaron Ba'Salon with Eastern Region
UID:0002da56-b5d4-4c62-a7f4-9c63625224da
END:VEVENT
END:VCALENDAR
