BEGIN:VCALENDAR
PRODID:-//github.com/rianjs/ical.net//NONSGML ical.net 4.0//EN
VERSION:2.0
BEGIN:VEVENT
DESCRIPTION:Details:\nhttps://bbyo.org/bbyo-near-you/regions/great-midwest
 -region/debate-night-viewing-party
DTEND;VALUE=DATE:20161019
DTSTAMP:20260425T194534Z
DTSTART;VALUE=DATE:20161019
LOCATION:
SEQUENCE:0
SUMMARY:Debate Night Viewing Party
UID:20753e8b-c1a7-4fc8-af41-4ea3a2de54ec
END:VEVENT
END:VCALENDAR
