BEGIN:VCALENDAR
PRODID:-//github.com/rianjs/ical.net//NONSGML ical.net 4.0//EN
VERSION:2.0
BEGIN:VEVENT
DESCRIPTION:Details:\nhttps://bbyo.org/bbyo-near-you/regions/eastern-regio
 n/richmond-bbyo-winter-kickoff-with-fordson-labs
DTEND:20180107T000100
DTSTAMP:20260425T194411Z
DTSTART;VALUE=DATE:20180107
LOCATION:
SEQUENCE:0
SUMMARY:Richmond BBYO Winter Kickoff with Fordson Labs
UID:2ec04eb6-0b3d-4e87-a14a-a1640e6d179b
END:VEVENT
END:VCALENDAR
