BEGIN:VCALENDAR
PRODID:-//github.com/rianjs/ical.net//NONSGML ical.net 4.0//EN
VERSION:2.0
BEGIN:VEVENT
DESCRIPTION:Details:\nhttps://bbyo.org/bbyo-near-you/regions/manhattan-reg
 ion/end-of-year-celebration
DTEND:20240609T220000
DTSTAMP:20260421T043144Z
DTSTART:20240609T190000
LOCATION:
SEQUENCE:0
SUMMARY:End of Year Celebration
UID:9ec11a3d-7b03-438e-a676-17a7bf2ed312
END:VEVENT
END:VCALENDAR
