BEGIN:VCALENDAR
PRODID:-//github.com/rianjs/ical.net//NONSGML ical.net 4.0//EN
VERSION:2.0
BEGIN:VEVENT
DESCRIPTION:Details:\nhttps://bbyo.org/bbyo-near-you/regions/south-jersey-
 region/sjr-j-serve-repairing-the-world\n\nSummary:\nTeens will be involve
 d in 10 hands on service projects to benefit local charities.  Each proje
 ct will be set up at a different table.  Examples of the projects are mak
 ing sandwiches for the
DTEND:20190407T120000
DTSTAMP:20260423T115137Z
DTSTART:20190407T100000
LOCATION:Cinnaminson New Jersey
SEQUENCE:0
SUMMARY:SJR J-Serve: Repairing the World
UID:7935dc78-c114-4ac4-953d-63591e8d1f44
END:VEVENT
END:VCALENDAR
