BEGIN:VCALENDAR
PRODID:-//github.com/rianjs/ical.net//NONSGML ical.net 4.0//EN
VERSION:2.0
BEGIN:VEVENT
DESCRIPTION:Details:\nhttps://bbyo.org/bbyo-near-you/regions/south-jersey-
 region/sjr-regional-fall-2024-intake
DTEND:20240915T154500
DTSTAMP:20260419T123147Z
DTSTART:20240915T140000
LOCATION:JCC Camps at Medford
SEQUENCE:0
SUMMARY:SJR Regional Fall 2024 Intake
UID:d91bbe81-97ba-4336-af0e-f91153ce15a3
END:VEVENT
END:VCALENDAR
