BEGIN:VCALENDAR
PRODID:-//github.com/rianjs/ical.net//NONSGML ical.net 4.0//EN
VERSION:2.0
BEGIN:VEVENT
DESCRIPTION:Details:\nhttps://bbyo.org/bbyo-near-you/regions/new-england-r
 egion/ner-winter-kallah-2019\n\nSummary:\nWinter Kallah\nJanuary 25 - 27\
 , 2019\nConvention starts at 3 pm on Friday and ending at 2 pm on Sunday!
 \nHoliday Inn and Suites in MA (full address will be sent out)\nEarly Bir
 d Fee: $295 betwee
DTEND:20190127T140000
DTSTAMP:20260423T200317Z
DTSTART:20190125T150000
LOCATION:Peabody Massachusetts
SEQUENCE:0
SUMMARY:NER Winter Kallah 2019
UID:380a83e1-99b7-470d-8fc6-6d4d7bebba2a
END:VEVENT
END:VCALENDAR
