BEGIN:VCALENDAR
PRODID:-//github.com/rianjs/ical.net//NONSGML ical.net 4.0//EN
VERSION:2.0
BEGIN:VEVENT
DESCRIPTION:Details:\nhttps://bbyo.org/bbyo-near-you/regions/mountain-regi
 on/mtn-spirit-convention-2016-flash-sale-(pc-3010)\n\nSummary:\nSpirit Co
 nvention 2016 is going to be a weekend full of chapter spirit\, great pro
 gramming\, and your friends from around the region! Don't miss out on one
  of our most popular conventions of t
DTEND:20160124T120000
DTSTAMP:20260423T200916Z
DTSTART:20160122T180000
LOCATION:Hilton Garden Inn - Phoenix Midtown
SEQUENCE:0
SUMMARY:MTN - Spirit Convention 2016 FLASH SALE (PC 3010)
UID:e4d7e544-00ab-4e93-acad-2f6afb8cd993
END:VEVENT
END:VCALENDAR
