BEGIN:VCALENDAR
PRODID:-//github.com/rianjs/ical.net//NONSGML ical.net 4.0//EN
VERSION:2.0
BEGIN:VEVENT
DESCRIPTION:Details:\nhttps://bbyo.org/bbyo-near-you/regions/northern-regi
 on-east-northern-virginia-council/shul-of-the-month\n\nSummary:\nIt's tim
 e again for Shul of the Month! This month we will be attending Friday Nig
 ht services at Northern VA Hebrew Congregation. We will also be eating a 
 delicious Shabbat dinner!
DTEND:20060324T213000
DTSTAMP:20260425T235050Z
DTSTART:20060324T183000
LOCATION:NVHC
SEQUENCE:0
SUMMARY:Shul of the Month
UID:f021cc44-3c0f-463c-9fb9-7dcc83ced026
END:VEVENT
END:VCALENDAR
