BEGIN:VCALENDAR
PRODID:-//github.com/rianjs/ical.net//NONSGML ical.net 4.0//EN
VERSION:2.0
BEGIN:VEVENT
DESCRIPTION:Details:\nhttps://bbyo.org/bbyo-near-you/regions/manhattan-reg
 ion/25-dollar-initial-price-fix-bbyo-manhattan-winter-
DTEND;VALUE=DATE:20211212
DTSTAMP:20260421T100118Z
DTSTART;VALUE=DATE:20211210
LOCATION:Plainsboro New Jersey
SEQUENCE:0
SUMMARY:25 dollar initial price fix - BBYO Manhattan Winter Convention
UID:9c3bd563-8c44-446b-872a-1611c91b4fe9
END:VEVENT
END:VCALENDAR
