BEGIN:VCALENDAR
PRODID:-//github.com/rianjs/ical.net//NONSGML ical.net 4.0//EN
VERSION:2.0
BEGIN:VEVENT
DESCRIPTION:Details:\nhttps://bbyo.org/bbyo-near-you/regions/connecticut-v
 alley-region/beau-sweetheart-dance-2016-(pc-5000)
DTEND:20160305T230000
DTSTAMP:20260423T101523Z
DTSTART:20160305T200000
LOCATION:New Haven
SEQUENCE:0
SUMMARY:Beau Sweetheart  Dance 2016 (PC 5000)
UID:e508a8ff-9091-47fb-925f-23df89564da4
END:VEVENT
END:VCALENDAR
