BEGIN:VCALENDAR
PRODID:-//github.com/rianjs/ical.net//NONSGML ical.net 4.0//EN
VERSION:2.0
BEGIN:VEVENT
DESCRIPTION:Details:\nhttps://bbyo.org/bbyo-near-you/regions/great-midwest
 -region/haganah-invite-prep
DTEND:20221102T201500
DTSTAMP:20260423T200059Z
DTSTART:20221102T193500
LOCATION:
SEQUENCE:0
SUMMARY:Haganah Invite Prep
UID:010f3a18-3f4f-437a-a38f-8d09dc86ecca
END:VEVENT
END:VCALENDAR
