BEGIN:VCALENDAR
PRODID:-//github.com/rianjs/ical.net//NONSGML ical.net 4.0//EN
VERSION:2.0
BEGIN:VEVENT
DESCRIPTION:Details:\nhttps://bbyo.org/bbyo-near-you/regions/evergreen-reg
 ion/portland-city-fall-kickoff-event-2022
DTEND:20220918T170000
DTSTAMP:20260426T030229Z
DTSTART:20220918T150000
LOCATION:Hiillsboro Oregon
SEQUENCE:0
SUMMARY:Portland City Fall Kickoff Event 2022
UID:7e634537-6294-4108-8ca8-5fdae0ff3f14
END:VEVENT
END:VCALENDAR
