BEGIN:VCALENDAR
PRODID:-//github.com/rianjs/ical.net//NONSGML ical.net 4.0//EN
VERSION:2.0
BEGIN:VEVENT
DESCRIPTION:Details:\nhttps://bbyo.org/bbyo-near-you/regions/pacific-weste
 rn-region/pwr-ic-spirit-packs!-(pc-2140)\n\nSummary:\nShow your PWR spiri
 t at opening ceremonies at IC 2017!!! Your spirit pack will include an aw
 esome PWR IC t-shirt\, two different noise makers\, a bandanna and glow i
 n the dark sunglasses!
DTEND:20170220T090000
DTSTAMP:20260420T181017Z
DTSTART:20170216T120000
LOCATION:Dallas\, TX
SEQUENCE:0
SUMMARY:PWR IC Spirit Packs! (PC 2140)
UID:42620ec5-a73e-4ea1-8326-7b3a5390c310
END:VEVENT
END:VCALENDAR
