BEGIN:VCALENDAR
PRODID:-//github.com/rianjs/ical.net//NONSGML ical.net 4.0//EN
VERSION:2.0
BEGIN:VEVENT
DESCRIPTION:Details:\nhttps://bbyo.org/bbyo-near-you/regions/big-apple-reg
 ion/end-of-summer-pool-party\n\nSummary:\nCome down and enjoy a summer po
 ol party splash with BBYO!  All Jewish teens and pre-teens invited!!
DTEND:20060828T210000
DTSTAMP:20260424T063535Z
DTSTART:20060828T180000
LOCATION:Samuel Field Y - Bay Terrace Site
SEQUENCE:0
SUMMARY:End of Summer Pool Party
UID:9e6ca220-3c1c-4c07-9e22-fc37caf38902
END:VEVENT
END:VCALENDAR
