BEGIN:VCALENDAR
PRODID:-//github.com/rianjs/ical.net//NONSGML ical.net 4.0//EN
VERSION:2.0
BEGIN:VEVENT
DESCRIPTION:Details:\nhttps://bbyo.org/bbyo-near-you/regions/new-england-r
 egion/ner-leadership-training-institute-part-2
DTEND:20220109T164500
DTSTAMP:20260421T110927Z
DTSTART:20220109T100000
LOCATION:Natick Massachusetts
SEQUENCE:0
SUMMARY:NER Leadership Training Institute Part 2
UID:a01d55e2-2c01-43eb-9bea-83df3e390743
END:VEVENT
END:VCALENDAR
